BEGIN:VCALENDAR
VERSION:2.0
PRODID:-//Department Of Education//16f8a0ff-b824-440e-b548-7d2d3494a636
BEGIN:VTIMEZONE
TZID:Australia/Sydney
TZURL:http://tzurl.org/zoneinfo-outlook/Australia/Sydney
X-LIC-LOCATION:Australia/Sydney
BEGIN:STANDARD
TZOFFSETFROM:+1100
TZOFFSETTO:+1000
TZNAME:AEST
DTSTART:19700405T030000
RRULE:FREQ=YEARLY;BYMONTH=4;BYDAY=1SU
END:STANDARD
BEGIN:DAYLIGHT
TZOFFSETFROM:+1000
TZOFFSETTO:+1100
TZNAME:AEDT
DTSTART:19701004T020000
RRULE:FREQ=YEARLY;BYMONTH=10;BYDAY=1SU
END:DAYLIGHT
END:VTIMEZONE
CALSCALE:GREGORIAN
X-WR-TIMEZONE:Australia/Sydney
BEGIN:VEVENT
DTSTART;TZID=Australia/Sydney:20200403T140029
DTEND;TZID=Australia/Sydney:20200403T144538
DTSTAMP:20200403T000000Z
UID:13da6b94-4aae-41aa-b773-d6507481ded0
LOCATION:Niagara Park Public School Hall
SUMMARY;LANGUAGE=en-us:Superstar Assembly
SEQUENCE:0
DESCRIPTION:Students will be presented with Superstar Awards and the end of Term 2 Big Mover will be presented.
END:VEVENT
TRANSP:TRANSPARENT
END:VCALENDAR
