BEGIN:VCALENDAR
VERSION:2.0
PRODID:-//Department Of Education//e27a319f-f9a5-4b29-b705-af27b8b2113f
BEGIN:VTIMEZONE
TZID:Australia/Sydney
TZURL:http://tzurl.org/zoneinfo-outlook/Australia/Sydney
X-LIC-LOCATION:Australia/Sydney
BEGIN:STANDARD
TZOFFSETFROM:+1100
TZOFFSETTO:+1000
TZNAME:AEST
DTSTART:19700405T030000
RRULE:FREQ=YEARLY;BYMONTH=4;BYDAY=1SU
END:STANDARD
BEGIN:DAYLIGHT
TZOFFSETFROM:+1000
TZOFFSETTO:+1100
TZNAME:AEDT
DTSTART:19701004T020000
RRULE:FREQ=YEARLY;BYMONTH=10;BYDAY=1SU
END:DAYLIGHT
END:VTIMEZONE
CALSCALE:GREGORIAN
X-WR-TIMEZONE:Australia/Sydney
BEGIN:VEVENT
DTSTART;VALUE=DATE:20200402
DTEND;VALUE=DATE:20200403
DTSTAMP:20200402T000000Z
UID:88334da4-a81f-416a-b908-5da808aa6fb6
LOCATION:Easter Egg donations to the canteen
SUMMARY;LANGUAGE=en-us:P&C Easter Egg Mufti Day
SEQUENCE:0
DESCRIPTION:Students can wear mufti clothing to school with an Easter egg donation or gold coin for the P&C Easter raffle.
END:VEVENT
TRANSP:TRANSPARENT
END:VCALENDAR
