BEGIN:VCALENDAR
VERSION:2.0
PRODID:-//Department Of Education//4806bb89-f6fb-4d07-85e9-0a272f103d29
BEGIN:VTIMEZONE
TZID:Australia/Sydney
TZURL:http://tzurl.org/zoneinfo-outlook/Australia/Sydney
X-LIC-LOCATION:Australia/Sydney
BEGIN:STANDARD
TZOFFSETFROM:+1100
TZOFFSETTO:+1000
TZNAME:AEST
DTSTART:19700405T030000
RRULE:FREQ=YEARLY;BYMONTH=4;BYDAY=1SU
END:STANDARD
BEGIN:DAYLIGHT
TZOFFSETFROM:+1000
TZOFFSETTO:+1100
TZNAME:AEDT
DTSTART:19701004T020000
RRULE:FREQ=YEARLY;BYMONTH=10;BYDAY=1SU
END:DAYLIGHT
END:VTIMEZONE
CALSCALE:GREGORIAN
X-WR-TIMEZONE:Australia/Sydney
BEGIN:VEVENT
DTSTART;TZID=Australia/Sydney:20200409T091500
DTEND;TZID=Australia/Sydney:20200409T104500
DTSTAMP:20200409T000000Z
UID:26cacb71-6bfd-41ba-baa7-30d99296855a
LOCATION:Niagara Park Public School top basketball court
SUMMARY;LANGUAGE=en-us:Easter Hat Parade
SEQUENCE:0
DESCRIPTION:Parents and carers are welcome to attend our Easter Hat Parade on Thursday 9th April.  Children can wear hats for our parade, there will be an egg decorating competition in the hall and the Easter raffle will be drawn at the conclusion of the parade.
END:VEVENT
TRANSP:TRANSPARENT
END:VCALENDAR
