BEGIN:VCALENDAR
VERSION:2.0
PRODID:-//Department Of Education//c7665de8-de9c-4512-b652-9696622da078
BEGIN:VTIMEZONE
TZID:Australia/Sydney
TZURL:http://tzurl.org/zoneinfo-outlook/Australia/Sydney
X-LIC-LOCATION:Australia/Sydney
BEGIN:STANDARD
TZOFFSETFROM:+1100
TZOFFSETTO:+1000
TZNAME:AEST
DTSTART:19700405T030000
RRULE:FREQ=YEARLY;BYMONTH=4;BYDAY=1SU
END:STANDARD
BEGIN:DAYLIGHT
TZOFFSETFROM:+1000
TZOFFSETTO:+1100
TZNAME:AEDT
DTSTART:19701004T020000
RRULE:FREQ=YEARLY;BYMONTH=10;BYDAY=1SU
END:DAYLIGHT
END:VTIMEZONE
CALSCALE:GREGORIAN
X-WR-TIMEZONE:Australia/Sydney
BEGIN:VEVENT
DTSTART;VALUE=DATE:20200325
DTEND;VALUE=DATE:20200326
DTSTAMP:20200325T000000Z
UID:4f5bbc28-0e86-4623-80e4-40fdc39f2e5a
LOCATION:Niagara Park Public School Hall
SUMMARY;LANGUAGE=en-us:School Photos
SEQUENCE:0
DESCRIPTION:Students will have individual and class photos taken. Students are to wear full school uniform with white socks and black shoes.
END:VEVENT
TRANSP:TRANSPARENT
END:VCALENDAR
