BEGIN:VCALENDAR
VERSION:2.0
PRODID:-//Department Of Education//5a8f81e7-fb19-4873-9b4b-08fa9614f67b
BEGIN:VTIMEZONE
TZID:Australia/Sydney
TZURL:http://tzurl.org/zoneinfo-outlook/Australia/Sydney
X-LIC-LOCATION:Australia/Sydney
BEGIN:STANDARD
TZOFFSETFROM:+1100
TZOFFSETTO:+1000
TZNAME:AEST
DTSTART:19700405T030000
RRULE:FREQ=YEARLY;BYMONTH=4;BYDAY=1SU
END:STANDARD
BEGIN:DAYLIGHT
TZOFFSETFROM:+1000
TZOFFSETTO:+1100
TZNAME:AEDT
DTSTART:19701004T020000
RRULE:FREQ=YEARLY;BYMONTH=10;BYDAY=1SU
END:DAYLIGHT
END:VTIMEZONE
CALSCALE:GREGORIAN
X-WR-TIMEZONE:Australia/Sydney
BEGIN:VEVENT
DTSTART;VALUE=DATE:20200316
DTEND;VALUE=DATE:20200328
DTSTAMP:20200316T000000Z
UID:bf8673c3-ba95-46ed-a6f0-2fe098340fc9
LOCATION:Niagara Park School Library
SUMMARY;LANGUAGE=en-us:Henny Penny Hatching
SEQUENCE:0
DESCRIPTION:The chicks are coming. On the 16 March we will receive a new batch of eggs and over a period of two weeks we will watch the chicks hatch and develop. Visit the library and check out our newest enrolments at Niagara Park.
END:VEVENT
TRANSP:TRANSPARENT
END:VCALENDAR
