BEGIN:VCALENDAR
VERSION:2.0
PRODID:-//Department Of Education//6120518f-c2dc-4dea-b085-b8abc1337210
BEGIN:VTIMEZONE
TZID:Australia/Sydney
TZURL:http://tzurl.org/zoneinfo-outlook/Australia/Sydney
X-LIC-LOCATION:Australia/Sydney
BEGIN:STANDARD
TZOFFSETFROM:+1100
TZOFFSETTO:+1000
TZNAME:AEST
DTSTART:19700405T030000
RRULE:FREQ=YEARLY;BYMONTH=4;BYDAY=1SU
END:STANDARD
BEGIN:DAYLIGHT
TZOFFSETFROM:+1000
TZOFFSETTO:+1100
TZNAME:AEDT
DTSTART:19701004T020000
RRULE:FREQ=YEARLY;BYMONTH=10;BYDAY=1SU
END:DAYLIGHT
END:VTIMEZONE
CALSCALE:GREGORIAN
X-WR-TIMEZONE:Australia/Sydney
BEGIN:VEVENT
DTSTART;VALUE=DATE:20200320
DTEND;VALUE=DATE:20200321
DTSTAMP:20200320T000000Z
UID:6e09701e-2b6a-498d-b1c5-04aaacb17e76
LOCATION:Mingara Athletics Track
SUMMARY;LANGUAGE=en-us:Athletics Carnival
SEQUENCE:0
DESCRIPTION:The Athletics Carnival at Mingara will be for students who are turning 8 in 2020 to Year 6.  There will be a K-7 year old carnival at school at a later date to be advised.
END:VEVENT
TRANSP:TRANSPARENT
END:VCALENDAR
